BEGIN:VCALENDAR
VERSION:2.0
PRODID:-//Skills Recognition Centre Darwin - ECPv5.0.1//NONSGML v1.0//EN
CALSCALE:GREGORIAN
METHOD:PUBLISH
X-WR-CALNAME:Skills Recognition Centre Darwin
X-ORIGINAL-URL:https://www.skillsrecognitioncentre.edu.au
X-WR-CALDESC:Events for Skills Recognition Centre Darwin
BEGIN:VTIMEZONE
TZID:UTC
BEGIN:STANDARD
TZOFFSETFROM:+0000
TZOFFSETTO:+0000
TZNAME:UTC
DTSTART:20200101T000000
END:STANDARD
END:VTIMEZONE
BEGIN:VEVENT
DTSTART;TZID=UTC:20200306T153000
DTEND;TZID=UTC:20200306T163000
DTSTAMP:20200301T170842
CREATED:20200227T002519Z
LAST-MODIFIED:20200227T003450Z
UID:2304-1583508600-1583512200@www.skillsrecognitioncentre.edu.au
SUMMARY:Workshop 1 test
DESCRIPTION:This workshop will cover the following topics \n\none\ntwo\nthree\n\n
URL:https://www.skillsrecognitioncentre.edu.au/event/workshop-1-test/
LOCATION:Skills Recognition Centre\, Smith St Mall\, Darwin\, NT\, 0800\, Australia
END:VEVENT
END:VCALENDAR